BEGIN:VCALENDAR
VERSION:2.0
PRODID:-//South Carolina Society SAR - ECPv6.15.20//NONSGML v1.0//EN
CALSCALE:GREGORIAN
METHOD:PUBLISH
X-ORIGINAL-URL:https://scssar.org
X-WR-CALDESC:Events for South Carolina Society SAR
REFRESH-INTERVAL;VALUE=DURATION:PT1H
X-Robots-Tag:noindex
X-PUBLISHED-TTL:PT1H
BEGIN:VTIMEZONE
TZID:UTC
BEGIN:STANDARD
TZOFFSETFROM:+0000
TZOFFSETTO:+0000
TZNAME:UTC
DTSTART:20240101T000000
END:STANDARD
END:VTIMEZONE
BEGIN:VEVENT
DTSTART;TZID=UTC:20251209T180000
DTEND;TZID=UTC:20251209T193000
DTSTAMP:20260420T202147
CREATED:20250912T222847Z
LAST-MODIFIED:20251128T235357Z
UID:88-1765303200-1765308600@scssar.org
SUMMARY:Gen. Andrew Pickens Chapter December Monthly Meeting
DESCRIPTION:Join the Gen. Andrew Pickens Chapter at there October Monthly Meeting\, Monday\, October 13\, 2025. \n \nPresident Starns has asked me to announce that our next meeting will be held on Monday\, October 13\, at 6:00 pm at Mayberry’s Restaurant in Seneca. Mayberry’s is located at 125 N Townville Street. As always\, spouses and persons interested in joining SAR are welcome to attend. \nI have attached the minutes of our August 8 meeting. \nRalph \nRalph E. Welton\, Jr.Secretary / Treasurer\, General Andrew Pickens Chaper SCSSAR\, Chair\, SCSSAR Patriot Graves Committee
URL:https://scssar.org/event/gen-andrew-pickens-chapter-october-monthly-meeting/
LOCATION:Mayberry’s Restaurant\, 125 N Townville St\, Seneca\, SC\, 29678\, United States
CATEGORIES:Meetings
ORGANIZER;CN="Gen. Andrew Pickens Chapter":MAILTO:gapcscssar@scssar.org
END:VEVENT
END:VCALENDAR