BEGIN:VCALENDAR
VERSION:2.0
PRODID:-//South Carolina Society SAR - ECPv6.15.20//NONSGML v1.0//EN
CALSCALE:GREGORIAN
METHOD:PUBLISH
X-WR-CALNAME:South Carolina Society SAR
X-ORIGINAL-URL:https://scssar.org
X-WR-CALDESC:Events for South Carolina Society SAR
REFRESH-INTERVAL;VALUE=DURATION:PT1H
X-Robots-Tag:noindex
X-PUBLISHED-TTL:PT1H
BEGIN:VTIMEZONE
TZID:UTC
BEGIN:STANDARD
TZOFFSETFROM:+0000
TZOFFSETTO:+0000
TZNAME:UTC
DTSTART:20240101T000000
END:STANDARD
END:VTIMEZONE
BEGIN:VEVENT
DTSTART;TZID=UTC:20251210T100000
DTEND;TZID=UTC:20251210T150000
DTSTAMP:20260420T202650
CREATED:20251201T220735Z
LAST-MODIFIED:20251201T220735Z
UID:604-1765360800-1765378800@scssar.org
SUMMARY:Holiday Gathering
DESCRIPTION:All County 250 members and SC American Revolution Sestercentennial Commission Stakeholders are invited to join this holiday Gathering. We will share ideas worth stealing from 2025. We will dive deep into the planning for Carolina Days 2026. \nWe will share holiday recipes!  \nSend us your favorite holiday recipe (cookies\, canape’\, or casserole). Email them to info@southcarolina250.com no later than December 7. Bring a sample of your dish with you when you attend the Gathering! \nSC250 Holiday Gathering\nWednesday\, December 10\, 2025\n\nRevolutionary War Visitor Center\n212 Broad St. Camden\, SC 29020\n10:00 A.M. – 3:00 P.M.\n \n  \n  \n\n\n\n\n\n\n\n\n\n\n\nArriving the Day Before? \n  \nMeet & Greet \nTuesday\, October 9\, 2025 \nRobert Mills Courthouse \n607 Broad St. Camden\, SC 29020 \n5:30 P.M. – 7:00 P.M. \nThe SC American Revolution Trust will host us the night before the Gathering at their new home the Robert Mills Courthouse. Come mingle with your colleagues.\n\n\n\n\n\n\n\n\n\n\n\n\n\n\n\n\n\n\n  \n  \nNeed a Hotel Room? \nClick Here to learn about your hotel options. Staff will be staying at the Comfort Inn & Suites in Camden. \n\n\n\n\n\n\n\n\n\n\n\n\n\n\n\n  \n 
URL:https://scssar.org/event/holiday-gathering/
LOCATION:Revolutionary War Visitor’s Center\, 212 Broad Street\, Camden\, SC\, 29020\, United States
END:VEVENT
END:VCALENDAR