BEGIN:VCALENDAR
VERSION:2.0
PRODID:-//South Carolina Society SAR - ECPv6.15.20//NONSGML v1.0//EN
CALSCALE:GREGORIAN
METHOD:PUBLISH
X-WR-CALNAME:South Carolina Society SAR
X-ORIGINAL-URL:https://scssar.org
X-WR-CALDESC:Events for South Carolina Society SAR
REFRESH-INTERVAL;VALUE=DURATION:PT1H
X-Robots-Tag:noindex
X-PUBLISHED-TTL:PT1H
BEGIN:VTIMEZONE
TZID:UTC
BEGIN:STANDARD
TZOFFSETFROM:+0000
TZOFFSETTO:+0000
TZNAME:UTC
DTSTART:20240101T000000
END:STANDARD
END:VTIMEZONE
BEGIN:VEVENT
DTSTART;TZID=UTC:20251011T090000
DTEND;TZID=UTC:20251011T133000
DTSTAMP:20260420T231733
CREATED:20251002T203611Z
LAST-MODIFIED:20251002T203727Z
UID:377-1760173200-1760189400@scssar.org
SUMMARY:Fall Quarterly Board of Governors Meeting
DESCRIPTION: 
URL:https://scssar.org/event/fall-quarterly-board-of-governors-meeting/
LOCATION:SHANDON METHODIST CHURCH\, 3407 Devine St\, Columbia\, SC\, 29205\, United States
CATEGORIES:Meetings
END:VEVENT
BEGIN:VEVENT
DTSTART;TZID=UTC:20251007T110000
DTEND;TZID=UTC:20251007T120000
DTSTAMP:20260420T231733
CREATED:20251002T144047Z
LAST-MODIFIED:20260219T213450Z
UID:331-1759834800-1759838400@scssar.org
SUMMARY:Battle of Kings Mountain 245th Anniversary
DESCRIPTION:Battle of Kings Mountain 245th Anniversary\n\n\nThis is a SAR National Event\n\nTuesday\, October 7\, 2025\n\n11:00 AM – 12:00 PM\n\n\n\n\nKINGS MOUNTAIN NATIONAL MILITARY PARK\n\n2625 PARK ROAD\n\n\nBLACKSBURG\, SOUTH CAROLINA\, 29702
URL:https://scssar.org/event/battle-of-kings-mountain-245th-anniversary/
LOCATION:Kings Mountain National Military Park\, 2625 PARK ROAD\, Blacksburg\, SC\, 29702\, United States
CATEGORIES:NSSAR National Events
END:VEVENT
END:VCALENDAR