BEGIN:VCALENDAR
VERSION:2.0
PRODID:-//South Carolina Society SAR - ECPv6.15.20//NONSGML v1.0//EN
CALSCALE:GREGORIAN
METHOD:PUBLISH
X-ORIGINAL-URL:https://scssar.org
X-WR-CALDESC:Events for South Carolina Society SAR
REFRESH-INTERVAL;VALUE=DURATION:PT1H
X-Robots-Tag:noindex
X-PUBLISHED-TTL:PT1H
BEGIN:VTIMEZONE
TZID:UTC
BEGIN:STANDARD
TZOFFSETFROM:+0000
TZOFFSETTO:+0000
TZNAME:UTC
DTSTART:20270101T000000
END:STANDARD
END:VTIMEZONE
BEGIN:VEVENT
DTSTART;TZID=UTC:20280706T000000
DTEND;TZID=UTC:20280713T235959
DTSTAMP:20260421T033005
CREATED:20260223T211042Z
LAST-MODIFIED:20260223T211045Z
UID:1348-1846454400-1847145599@scssar.org
SUMMARY:NSSAR - 138th Annual Congress in Columbus\, Ohio
DESCRIPTION:
URL:https://scssar.org/event/nssar-138th-annual-congress-in-columbus-ohio/
LOCATION:Hilton Columbus Downtown\, 402 N High Street\, Columbus\, Ohio\, 43215
CATEGORIES:NSSAR National Events
END:VEVENT
END:VCALENDAR