BEGIN:VCALENDAR
VERSION:2.0
PRODID:-//South Carolina Society SAR - ECPv6.15.20//NONSGML v1.0//EN
CALSCALE:GREGORIAN
METHOD:PUBLISH
X-WR-CALNAME:South Carolina Society SAR
X-ORIGINAL-URL:https://scssar.org
X-WR-CALDESC:Events for South Carolina Society SAR
REFRESH-INTERVAL;VALUE=DURATION:PT1H
X-Robots-Tag:noindex
X-PUBLISHED-TTL:PT1H
BEGIN:VTIMEZONE
TZID:UTC
BEGIN:STANDARD
TZOFFSETFROM:+0000
TZOFFSETTO:+0000
TZNAME:UTC
DTSTART:20250101T000000
END:STANDARD
END:VTIMEZONE
BEGIN:VEVENT
DTSTART;TZID=UTC:20260110T093000
DTEND;TZID=UTC:20260110T130000
DTSTAMP:20260420T170922
CREATED:20260101T165055Z
LAST-MODIFIED:20260101T165125Z
UID:727-1768037400-1768050000@scssar.org
SUMMARY:SC SAR Board of Governors
DESCRIPTION:The Quarterly Board of Governors meeting.
URL:https://scssar.org/event/sc-sar-board-of-governors/
LOCATION:SHANDON METHODIST CHURCH\, 3407 Devine St\, Columbia\, SC\, 29205\, United States
END:VEVENT
BEGIN:VEVENT
DTSTART;TZID=UTC:20260117T100000
DTEND;TZID=UTC:20260117T130000
DTSTAMP:20260420T170922
CREATED:20251215T184811Z
LAST-MODIFIED:20251215T184811Z
UID:676-1768644000-1768654800@scssar.org
SUMMARY:245th Anniversary of the Battle of Cowpens
DESCRIPTION:A NSSAR Nationals Event\nIn Partnership with the NATIONAL PARK SERVICE \n  \n \nIf you are bringing a wreath to lay at the ceremony\, Please RSVP Here.\nPlease enable JavaScript in your browser to complete this form.Please enable JavaScript in your browser to complete this form.		\n			a Number National\n			\n		\n		Name *FirstLastEmail *Representing OrganizationPlease indicate if you are SAR\, DAR\, CAR\, SR or other\,.  Please include state and chapter affiliation SAR National Number (if Applicable.)Will be Laying a wreathYesNoMaybeSubmit   \n 
URL:https://scssar.org/event/245th-anniversary-of-the-battle-of-cowpens/
LOCATION:Cowpens National Battlefield\, 338 New Pleasant Road\, Gaffney\, SC\, 29341\, United States
END:VEVENT
END:VCALENDAR