BEGIN:VCALENDAR
VERSION:2.0
PRODID:-//South Carolina Society SAR - ECPv6.15.20//NONSGML v1.0//EN
CALSCALE:GREGORIAN
METHOD:PUBLISH
X-ORIGINAL-URL:https://scssar.org
X-WR-CALDESC:Events for South Carolina Society SAR
REFRESH-INTERVAL;VALUE=DURATION:PT1H
X-Robots-Tag:noindex
X-PUBLISHED-TTL:PT1H
BEGIN:VTIMEZONE
TZID:UTC
BEGIN:STANDARD
TZOFFSETFROM:+0000
TZOFFSETTO:+0000
TZNAME:UTC
DTSTART:20250101T000000
END:STANDARD
END:VTIMEZONE
BEGIN:VEVENT
DTSTART;TZID=UTC:20260304T090000
DTEND;TZID=UTC:20260305T130000
DTSTAMP:20260420T142402
CREATED:20260219T205407Z
LAST-MODIFIED:20260225T151655Z
UID:1233-1772614800-1772715600@scssar.org
SUMMARY:Coastal Discovery Museum
DESCRIPTION:Children living history event with 1600 Children \n\n\n\n\n\nNeed Period Dress & Help with Cannons
URL:https://scssar.org/event/carolina-costal-museum/
LOCATION:Coastal Discovery Museum\, 70 Honey Horn Drive\, Hilton Head Island\, South Carolina\, 29926
END:VEVENT
BEGIN:VEVENT
DTSTART;TZID=UTC:20260307T100000
DTEND;TZID=UTC:20260307T170000
DTSTAMP:20260420T142402
CREATED:20260219T210206Z
LAST-MODIFIED:20260219T210209Z
UID:1241-1772877600-1772902800@scssar.org
SUMMARY:Thomas Heyward Event
DESCRIPTION:Cannons & Wreath Ceremony
URL:https://scssar.org/event/thomas-heyward-event/
LOCATION:South Carolina
END:VEVENT
END:VCALENDAR